BEGIN:VCALENDAR
VERSION:2.0
PRODID:-//wp-events-plugin.com//7.2.3.1//EN
TZID:America/New_York
X-WR-TIMEZONE:America/New_York
BEGIN:VEVENT
UID:147@shalomcollaborative.org
DTSTART;TZID=America/New_York:20260506T190000
DTEND;TZID=America/New_York:20260506T200000
DTSTAMP:20260422T192159Z
URL:https://www.shalomcollaborative.org/events/tsc-movie-night-august-5th-
 from-700-to-800-p-m-kidnapped-2/
SUMMARY:TSC Movie Night - Join us May 6th at  7pm to discuss the movie The 
 Swedish Connection
DESCRIPTION:\n\n\n\n\n\n\n\nIn The Swedish Connection we are introduced to 
 Gösta Engzell\, an unassuming Swedish bureaucrat who becomes an unlikely 
 hero when he develops and executes covert plans to rescue European Jewish 
 refugees by using legal loopholes and plenty of paperwork. This little-kno
 wn true story has an uplifting message and a light tone resulting in a ver
 y watchable movie.\nThe Swedish Connection&nbsp\;is now streaming exclusiv
 ely on Netflix in the original Swedish (with English subtitles) or in Engl
 ish. Watch the official trailer&nbsp\;here.\nMany thanks to J.B. Barricklo
  for leading this discussion.\nPlease email J.B. directly at&nbsp\;jbbarri
 cklo@yahoo.com&nbsp\;to let him know to expect you!\n\n\n\n\n\n\n\n\n\n\n\
 n\n\n\n\n\n\n\n\n\n\n\n\n\n\n\n\n\n\n\n\n\n\n\n\n\n\n\n\nMovie club meetin
 gs can be accessed&nbsp\;here.\nAll are welcome to attend\, to suggest mov
 ies and to volunteer to lead discussions.&nbsp\;Invite a friend to join us
 !\n***Please send&nbsp\;Judy Meritz&nbsp\;your movie night suggestions!***
 \n\n\n\n\n\n\n\n\n&nbsp\;\nRSVP to Judy Meritz at&nbsp\;Judith.Meritz@gmai
 l.com&nbsp\;if you plan to attend.
END:VEVENT
BEGIN:VTIMEZONE
TZID:America/New_York
X-LIC-LOCATION:America/New_York
BEGIN:DAYLIGHT
DTSTART:20260308T030000
TZOFFSETFROM:-0500
TZOFFSETTO:-0400
TZNAME:EDT
END:DAYLIGHT
END:VTIMEZONE
END:VCALENDAR