BEGIN:VCALENDAR
VERSION:2.0
PRODID:-//wp-events-plugin.com//7.2.3.1//EN
TZID:America/New_York
X-WR-TIMEZONE:America/New_York
BEGIN:VEVENT
UID:152@shalomcollaborative.org
DTSTART;TZID=America/New_York:20260610T190000
DTEND;TZID=America/New_York:20260610T200000
DTSTAMP:20260424T160809Z
URL:https://www.shalomcollaborative.org/events/tsc-book-club-join-us-june-
 10th-at-7pm-to-discuss-the-book-the-meaning-of-murder/
SUMMARY:TSC Book Club - Join us June 10th at  7pm to discuss the book The M
 eaning of Murder
DESCRIPTION:\n\nThe father of a modern orthodox Jewish family works as a co
 mpliance officer at a bank in New York. When he discovers that his bank is
  violating OFAC laws and funding terrorists in the Middle East he alerts t
 he bank's top brass. They ignore him. After struggling with the conflict b
 etween his position as a fully assimilated member of his professional comm
 unity and his moral obligations as a man and a Jew\, he turns whistle-blow
 er and goes to the DOJ. The night before his deposition he disappears.\n\n
 Eliana Golden was thirteen when her father disappeared. Years later\, afte
 r surprising her family by joining the NYPD\, Eliana meets a mysterious an
 d alluring soldier\, a man who is far more dangerous than Eliana-and every
 one except those at the highest and most secret levels of the U.S. governm
 ent-understands. And he knows exactly what happened to her father.\n\nWhat
  follows is a journey into the darkest depths of America's covert war agai
 nst terrorism and the horrific moral compromises it can entail.\n\nThe Mea
 ning of the Murder is a psychological drama and a meditation on the moral 
 ambiguity of violence\, telling the multi-layered story of a family recove
 ring from trauma\, a detective determined to solve a crime\, and the price
  we pay for safety in the war on terror.\n\n\n&nbsp\;\n\n\n\n\n\n\n\n\nMan
 y thanks to Michael Sigman for leading this discussion.\nPlease email info
 @shalomcollaborative to let him know to expect you!\n\n\n\n\n\n\n\n\n\n\n\
 n\n\n\n\n\n\n\n\n\n\n\n\n\n\n\n\n\n\n\n\n\n\n\n\n\n\n\n\nAll are welcome t
 o attend\, to suggest books and to volunteer to lead discussions. Invite a
  friend to join us!\n***Please send&nbsp\;Judy Meritz your book suggestion
 s!***\n\n\n\n\n\n\n\n\n&nbsp\;\nRSVP to Judy Meritz at&nbsp\;Judith.Meritz
 @gmail.com&nbsp\;if you plan to attend.
END:VEVENT
BEGIN:VTIMEZONE
TZID:America/New_York
X-LIC-LOCATION:America/New_York
BEGIN:DAYLIGHT
DTSTART:20260308T030000
TZOFFSETFROM:-0500
TZOFFSETTO:-0400
TZNAME:EDT
END:DAYLIGHT
END:VTIMEZONE
END:VCALENDAR