BEGIN:VCALENDAR
VERSION:2.0
PRODID:-//wp-events-plugin.com//7.2.3.1//EN
TZID:America/New_York
X-WR-TIMEZONE:America/New_York
BEGIN:VEVENT
UID:146@shalomcollaborative.org
DTSTART;TZID=America/New_York:20260626T183000
DTEND;TZID=America/New_York:20260626T194500
DTSTAMP:20260422T191717Z
URL:https://www.shalomcollaborative.org/events/shabbat-celebration-service
 -led-by-member-with-sermon-by-michael-sigman/
SUMMARY:Shabbat Celebration Service led by member TBD with sermon by Michae
 l Sigman
DESCRIPTION:Please join us for our monthly member led Shabbat Service\; usi
 ng the Union Prayer Book Service with music\, sermonette\, and prayer.&nbs
 p\; &nbsp\;\n\n[wpmem_logged_in]\nClick here to open this event on Zoom.\n
 [/wpmem_logged_in]\n\n[wpmem_logged_out]\nThis event is for members only. 
 Click here to log in.\n[/wpmem_logged_out]
END:VEVENT
BEGIN:VTIMEZONE
TZID:America/New_York
X-LIC-LOCATION:America/New_York
BEGIN:DAYLIGHT
DTSTART:20260308T030000
TZOFFSETFROM:-0500
TZOFFSETTO:-0400
TZNAME:EDT
END:DAYLIGHT
END:VTIMEZONE
END:VCALENDAR